BEGIN:VCALENDAR
VERSION:2.0
PRODID:-// - ECPv6.15.20//NONSGML v1.0//EN
CALSCALE:GREGORIAN
METHOD:PUBLISH
X-ORIGINAL-URL:https://cclafoundation.org
X-WR-CALDESC:Events for 
REFRESH-INTERVAL;VALUE=DURATION:PT1H
X-Robots-Tag:noindex
X-PUBLISHED-TTL:PT1H
BEGIN:VTIMEZONE
TZID:UTC
BEGIN:STANDARD
TZOFFSETFROM:+0000
TZOFFSETTO:+0000
TZNAME:UTC
DTSTART:20200101T000000
END:STANDARD
END:VTIMEZONE
BEGIN:VEVENT
DTSTART;TZID=UTC:20230429T170000
DTEND;TZID=UTC:20230429T220000
DTSTAMP:20260423T152629
CREATED:20230301T040330Z
LAST-MODIFIED:20230301T040330Z
UID:2345-1682787600-1682805600@cclafoundation.org
SUMMARY:Gala Americana Fundraiser April 29\, 5-10 PM
DESCRIPTION:
URL:https://cclafoundation.org/event/gala-americana-fundraiser-april-29-5-10-pm/
LOCATION:Friedman Event Center\, 4676 Mayette Ave\, Santa Rosa\, CA\, United States
END:VEVENT
BEGIN:VEVENT
DTSTART;TZID=UTC:20221003T173000
DTEND;TZID=UTC:20221003T190000
DTSTAMP:20260423T152629
CREATED:20220831T032040Z
LAST-MODIFIED:20220929T202817Z
UID:2265-1664818200-1664823600@cclafoundation.org
SUMMARY:Foundation Meet and Greet
DESCRIPTION:Come and meet the Foundation members\, see what we do\, and find out ways you can volunteer! This is a casual meet and greet event! The meeting will be held in the annex on school grounds. We look forward to seeing you!
URL:https://cclafoundation.org/event/foundation-meet-and-greet/
LOCATION:Cesar Chavez Language Academy\, 2480 Sebastopol Rd\, Santa Rosa\, CA\, 95403\, United States
END:VEVENT
BEGIN:VEVENT
DTSTART;TZID=UTC:20220505T180000
DTEND;TZID=UTC:20220505T190000
DTSTAMP:20260423T152629
CREATED:20210817T034919Z
LAST-MODIFIED:20210817T034919Z
UID:2107-1651773600-1651777200@cclafoundation.org
SUMMARY:Foundation Meeting
DESCRIPTION:The Foundation offers two opportunities a month for parents to attend. You do not need to attend both meetings -the same topics will be discussed.
URL:https://cclafoundation.org/event/foundation-meeting-16/
LOCATION:CA
END:VEVENT
BEGIN:VEVENT
DTSTART;TZID=UTC:20220504T083000
DTEND;TZID=UTC:20220504T093000
DTSTAMP:20260423T152629
CREATED:20210817T034844Z
LAST-MODIFIED:20210817T034844Z
UID:2105-1651653000-1651656600@cclafoundation.org
SUMMARY:Foundation Meeting
DESCRIPTION:The Foundation offers two opportunities a month for parents to attend. You do not need to attend both meetings -the same topics will be discussed.
URL:https://cclafoundation.org/event/foundation-meeting-15/
LOCATION:CA
END:VEVENT
BEGIN:VEVENT
DTSTART;TZID=UTC:20220421T170000
DTEND;TZID=UTC:20220421T190000
DTSTAMP:20260423T152629
CREATED:20220405T031803Z
LAST-MODIFIED:20220405T191816Z
UID:2220-1650560400-1650567600@cclafoundation.org
SUMMARY:Spring / Primavera Bingo
DESCRIPTION:Bingo out on the Quad!  Cash prizes!  Taco truck! CCLA students play FREE!
URL:https://cclafoundation.org/event/spring-primavera-bingo/
LOCATION:Cesar Chavez Language Academy\, 2480 Sebastopol Rd\, Santa Rosa\, CA\, 95403\, United States
END:VEVENT
BEGIN:VEVENT
DTSTART;TZID=UTC:20220407T180000
DTEND;TZID=UTC:20220407T190000
DTSTAMP:20260423T152629
CREATED:20210817T034805Z
LAST-MODIFIED:20210817T034805Z
UID:2103-1649354400-1649358000@cclafoundation.org
SUMMARY:Foundation Meeting
DESCRIPTION:The Foundation offers two opportunities a month for parents to attend. You do not need to attend both meetings -the same topics will be discussed.
URL:https://cclafoundation.org/event/foundation-meeting-14/
LOCATION:CA
END:VEVENT
BEGIN:VEVENT
DTSTART;TZID=UTC:20220406T083000
DTEND;TZID=UTC:20220406T093000
DTSTAMP:20260423T152629
CREATED:20210817T034727Z
LAST-MODIFIED:20210817T034727Z
UID:2101-1649233800-1649237400@cclafoundation.org
SUMMARY:Foundation Meeting
DESCRIPTION:The Foundation offers two opportunities a month for parents to attend. You do not need to attend both meetings -the same topics will be discussed.
URL:https://cclafoundation.org/event/foundation-meeting-13/
LOCATION:CA
END:VEVENT
BEGIN:VEVENT
DTSTART;TZID=UTC:20220317T170000
DTEND;TZID=UTC:20220317T190000
DTSTAMP:20260423T152629
CREATED:20220305T180039Z
LAST-MODIFIED:20220305T181858Z
UID:2209-1647536400-1647543600@cclafoundation.org
SUMMARY:BINGO!
DESCRIPTION:St Patrick Bingo 2022-Bilingual Flyer
URL:https://cclafoundation.org/event/bingo/
LOCATION:CA
END:VEVENT
BEGIN:VEVENT
DTSTART;TZID=UTC:20220303T180000
DTEND;TZID=UTC:20220303T190000
DTSTAMP:20260423T152629
CREATED:20210817T034645Z
LAST-MODIFIED:20210817T034645Z
UID:2099-1646330400-1646334000@cclafoundation.org
SUMMARY:Foundation Meeting
DESCRIPTION:The Foundation offers two opportunities a month for parents to attend. You do not need to attend both meetings -the same topics will be discussed.
URL:https://cclafoundation.org/event/foundation-meeting-12/
LOCATION:CA
END:VEVENT
BEGIN:VEVENT
DTSTART;TZID=UTC:20220302T083000
DTEND;TZID=UTC:20220302T093000
DTSTAMP:20260423T152629
CREATED:20210817T034606Z
LAST-MODIFIED:20210817T034606Z
UID:2097-1646209800-1646213400@cclafoundation.org
SUMMARY:Foundation Meeting
DESCRIPTION:The Foundation offers two opportunities a month for parents to attend. You do not need to attend both meetings -the same topics will be discussed.
URL:https://cclafoundation.org/event/foundation-meeting-11/
LOCATION:CA
END:VEVENT
BEGIN:VEVENT
DTSTART;TZID=UTC:20220203T180000
DTEND;TZID=UTC:20220203T190000
DTSTAMP:20260423T152629
CREATED:20210817T034526Z
LAST-MODIFIED:20210817T034526Z
UID:2095-1643911200-1643914800@cclafoundation.org
SUMMARY:Foundation Meeting
DESCRIPTION:The Foundation offers two opportunities a month for parents to attend. You do not need to attend both meetings -the same topics will be discussed.
URL:https://cclafoundation.org/event/foundation-meeting-10/
LOCATION:CA
END:VEVENT
BEGIN:VEVENT
DTSTART;TZID=UTC:20220202T083000
DTEND;TZID=UTC:20220202T213000
DTSTAMP:20260423T152629
CREATED:20210817T034443Z
LAST-MODIFIED:20210817T034443Z
UID:2093-1643790600-1643837400@cclafoundation.org
SUMMARY:Foundation Meeting
DESCRIPTION:The Foundation offers two opportunities a month for parents to attend. You do not need to attend both meetings -the same topics will be discussed.
URL:https://cclafoundation.org/event/foundation-meeting-9/
LOCATION:CA
END:VEVENT
BEGIN:VEVENT
DTSTART;TZID=UTC:20220106T180000
DTEND;TZID=UTC:20220106T190000
DTSTAMP:20260423T152629
CREATED:20210817T034407Z
LAST-MODIFIED:20210817T034407Z
UID:2091-1641492000-1641495600@cclafoundation.org
SUMMARY:Foundation Meeting
DESCRIPTION:The Foundation offers two opportunities a month for parents to attend. You do not need to attend both meetings -the same topics will be discussed.
URL:https://cclafoundation.org/event/foundation-meeting-8/
LOCATION:CA
END:VEVENT
BEGIN:VEVENT
DTSTART;TZID=UTC:20220105T083000
DTEND;TZID=UTC:20220105T093000
DTSTAMP:20260423T152629
CREATED:20210817T034327Z
LAST-MODIFIED:20210817T034327Z
UID:2089-1641371400-1641375000@cclafoundation.org
SUMMARY:Foundation Meeting
DESCRIPTION:The Foundation offers two opportunities a month for parents to attend. You do not need to attend both meetings -the same topics will be discussed.
URL:https://cclafoundation.org/event/foundation-meeting-7/
LOCATION:CA
END:VEVENT
BEGIN:VEVENT
DTSTART;TZID=UTC:20211104T180000
DTEND;TZID=UTC:20211104T190000
DTSTAMP:20260423T152629
CREATED:20210817T034240Z
LAST-MODIFIED:20210817T034240Z
UID:2087-1636048800-1636052400@cclafoundation.org
SUMMARY:Foundation Meeting
DESCRIPTION:The Foundation offers two opportunities a month for parents to attend. You do not need to attend both meetings -the same topics will be discussed.
URL:https://cclafoundation.org/event/foundation-meeting-6/
LOCATION:CA
END:VEVENT
BEGIN:VEVENT
DTSTART;TZID=UTC:20211103T083000
DTEND;TZID=UTC:20211103T093000
DTSTAMP:20260423T152629
CREATED:20210817T034204Z
LAST-MODIFIED:20210817T034204Z
UID:2085-1635928200-1635931800@cclafoundation.org
SUMMARY:Foundation Meeting
DESCRIPTION:The Foundation offers two opportunities a month for parents to attend. You do not need to attend both meetings -the same topics will be discussed.
URL:https://cclafoundation.org/event/foundation-meeting-5/
LOCATION:CA
END:VEVENT
BEGIN:VEVENT
DTSTART;TZID=UTC:20211030T100000
DTEND;TZID=UTC:20211030T160000
DTSTAMP:20260423T152629
CREATED:20210925T032516Z
LAST-MODIFIED:20210925T032914Z
UID:2143-1635588000-1635609600@cclafoundation.org
SUMMARY:CCLA COLOR RUN 2021
DESCRIPTION:
URL:https://cclafoundation.org/event/ccla-color-run-2021/
LOCATION:CA
END:VEVENT
BEGIN:VEVENT
DTSTART;TZID=UTC:20211007T180000
DTEND;TZID=UTC:20211007T190000
DTSTAMP:20260423T152629
CREATED:20210817T034124Z
LAST-MODIFIED:20210817T034124Z
UID:2083-1633629600-1633633200@cclafoundation.org
SUMMARY:Foundation Meeting
DESCRIPTION:The Foundation offers two opportunities a month for parents to attend. You do not need to attend both meetings -the same topics will be discussed.
URL:https://cclafoundation.org/event/foundation-meeting-4/
LOCATION:CA
END:VEVENT
BEGIN:VEVENT
DTSTART;TZID=UTC:20211006T083000
DTEND;TZID=UTC:20211006T093000
DTSTAMP:20260423T152629
CREATED:20210817T034033Z
LAST-MODIFIED:20210817T034033Z
UID:2081-1633509000-1633512600@cclafoundation.org
SUMMARY:Foundation Meeting
DESCRIPTION:The Foundation offers two opportunities a month for parents to attend. You do not need to attend both meetings -the same topics will be discussed.
URL:https://cclafoundation.org/event/foundation-meeting-3/
LOCATION:CA
END:VEVENT
BEGIN:VEVENT
DTSTART;TZID=UTC:20210902T180000
DTEND;TZID=UTC:20210902T190000
DTSTAMP:20260423T152629
CREATED:20210817T033818Z
LAST-MODIFIED:20210817T033818Z
UID:2079-1630605600-1630609200@cclafoundation.org
SUMMARY:Foundation Meeting
DESCRIPTION:The Foundation offers two opportunities a month for parents to attend. You do not need to attend both meetings -the same topics will be discussed.
URL:https://cclafoundation.org/event/foundation-meeting-2/
LOCATION:CA
END:VEVENT
BEGIN:VEVENT
DTSTART;TZID=UTC:20210901T083000
DTEND;TZID=UTC:20210901T093000
DTSTAMP:20260423T152629
CREATED:20210817T033709Z
LAST-MODIFIED:20210817T033709Z
UID:2076-1630485000-1630488600@cclafoundation.org
SUMMARY:Foundation Meeting
DESCRIPTION:The Foundation offers two opportunities a month for parents to attend. You do not need to attend both meetings -the same topics will be discussed.
URL:https://cclafoundation.org/event/foundation-meeting/
LOCATION:Zoom (link on Parentsquare)
END:VEVENT
BEGIN:VEVENT
DTSTART;VALUE=DATE:20210523
DTEND;VALUE=DATE:20210524
DTSTAMP:20260423T152629
CREATED:20210523T200028Z
LAST-MODIFIED:20210523T222241Z
UID:1969-1621728000-1621814399@cclafoundation.org
SUMMARY:See's Candies Fundraising Event for the Washington\, D.C. trip!
DESCRIPTION:Next school year we have 35 Cesar Chavez Language Academy students and parents who will be visiting Washington\, D.C. and See’s Candies is helping us raise funds!  We receive all profits from any candy sales on this site.  Please support our students and their fundraising efforts!  Open this calendar event to click on the link. \nhttps://www.yumraising.com/secure/cesarcla_ccla_washington_dc_trip85/candy?h=Don_Pra5245&c=fb6302
URL:https://cclafoundation.org/event/sees-candies-fundraising-event-for-the-washington-d-c-trip/
LOCATION:CA
END:VEVENT
BEGIN:VEVENT
DTSTART;VALUE=DATE:20210422
DTEND;VALUE=DATE:20210426
DTSTAMP:20260423T152629
CREATED:20210416T232152Z
LAST-MODIFIED:20210511T030950Z
UID:812-1619049600-1619395199@cclafoundation.org
SUMMARY:Earth Day Fundraiser
DESCRIPTION:
URL:https://cclafoundation.org/event/earth-day-fundraiser/
LOCATION:CA
END:VEVENT
END:VCALENDAR