BEGIN:VCALENDAR
VERSION:2.0
PRODID:-// - ECPv6.15.20//NONSGML v1.0//EN
CALSCALE:GREGORIAN
METHOD:PUBLISH
X-ORIGINAL-URL:https://cclafoundation.org
X-WR-CALDESC:Events for 
REFRESH-INTERVAL;VALUE=DURATION:PT1H
X-Robots-Tag:noindex
X-PUBLISHED-TTL:PT1H
BEGIN:VTIMEZONE
TZID:UTC
BEGIN:STANDARD
TZOFFSETFROM:+0000
TZOFFSETTO:+0000
TZNAME:UTC
DTSTART:20200101T000000
END:STANDARD
END:VTIMEZONE
BEGIN:VEVENT
DTSTART;TZID=UTC:20220106T180000
DTEND;TZID=UTC:20220106T190000
DTSTAMP:20260423T164118
CREATED:20210817T034407Z
LAST-MODIFIED:20210817T034407Z
UID:2091-1641492000-1641495600@cclafoundation.org
SUMMARY:Foundation Meeting
DESCRIPTION:The Foundation offers two opportunities a month for parents to attend. You do not need to attend both meetings -the same topics will be discussed.
URL:https://cclafoundation.org/event/foundation-meeting-8/
END:VEVENT
BEGIN:VEVENT
DTSTART;TZID=UTC:20220105T083000
DTEND;TZID=UTC:20220105T093000
DTSTAMP:20260423T164118
CREATED:20210817T034327Z
LAST-MODIFIED:20210817T034327Z
UID:2089-1641371400-1641375000@cclafoundation.org
SUMMARY:Foundation Meeting
DESCRIPTION:The Foundation offers two opportunities a month for parents to attend. You do not need to attend both meetings -the same topics will be discussed.
URL:https://cclafoundation.org/event/foundation-meeting-7/
END:VEVENT
BEGIN:VEVENT
DTSTART;TZID=UTC:20211104T180000
DTEND;TZID=UTC:20211104T190000
DTSTAMP:20260423T164118
CREATED:20210817T034240Z
LAST-MODIFIED:20210817T034240Z
UID:2087-1636048800-1636052400@cclafoundation.org
SUMMARY:Foundation Meeting
DESCRIPTION:The Foundation offers two opportunities a month for parents to attend. You do not need to attend both meetings -the same topics will be discussed.
URL:https://cclafoundation.org/event/foundation-meeting-6/
END:VEVENT
BEGIN:VEVENT
DTSTART;TZID=UTC:20211103T083000
DTEND;TZID=UTC:20211103T093000
DTSTAMP:20260423T164118
CREATED:20210817T034204Z
LAST-MODIFIED:20210817T034204Z
UID:2085-1635928200-1635931800@cclafoundation.org
SUMMARY:Foundation Meeting
DESCRIPTION:The Foundation offers two opportunities a month for parents to attend. You do not need to attend both meetings -the same topics will be discussed.
URL:https://cclafoundation.org/event/foundation-meeting-5/
END:VEVENT
BEGIN:VEVENT
DTSTART;TZID=UTC:20211030T100000
DTEND;TZID=UTC:20211030T160000
DTSTAMP:20260423T164118
CREATED:20210925T032516Z
LAST-MODIFIED:20210925T032914Z
UID:2143-1635588000-1635609600@cclafoundation.org
SUMMARY:CCLA COLOR RUN 2021
DESCRIPTION:
URL:https://cclafoundation.org/event/ccla-color-run-2021/
END:VEVENT
BEGIN:VEVENT
DTSTART;TZID=UTC:20211007T180000
DTEND;TZID=UTC:20211007T190000
DTSTAMP:20260423T164118
CREATED:20210817T034124Z
LAST-MODIFIED:20210817T034124Z
UID:2083-1633629600-1633633200@cclafoundation.org
SUMMARY:Foundation Meeting
DESCRIPTION:The Foundation offers two opportunities a month for parents to attend. You do not need to attend both meetings -the same topics will be discussed.
URL:https://cclafoundation.org/event/foundation-meeting-4/
END:VEVENT
BEGIN:VEVENT
DTSTART;TZID=UTC:20211006T083000
DTEND;TZID=UTC:20211006T093000
DTSTAMP:20260423T164118
CREATED:20210817T034033Z
LAST-MODIFIED:20210817T034033Z
UID:2081-1633509000-1633512600@cclafoundation.org
SUMMARY:Foundation Meeting
DESCRIPTION:The Foundation offers two opportunities a month for parents to attend. You do not need to attend both meetings -the same topics will be discussed.
URL:https://cclafoundation.org/event/foundation-meeting-3/
END:VEVENT
BEGIN:VEVENT
DTSTART;TZID=UTC:20210902T180000
DTEND;TZID=UTC:20210902T190000
DTSTAMP:20260423T164118
CREATED:20210817T033818Z
LAST-MODIFIED:20210817T033818Z
UID:2079-1630605600-1630609200@cclafoundation.org
SUMMARY:Foundation Meeting
DESCRIPTION:The Foundation offers two opportunities a month for parents to attend. You do not need to attend both meetings -the same topics will be discussed.
URL:https://cclafoundation.org/event/foundation-meeting-2/
END:VEVENT
BEGIN:VEVENT
DTSTART;TZID=UTC:20210901T083000
DTEND;TZID=UTC:20210901T093000
DTSTAMP:20260423T164118
CREATED:20210817T033709Z
LAST-MODIFIED:20210817T033709Z
UID:2076-1630485000-1630488600@cclafoundation.org
SUMMARY:Foundation Meeting
DESCRIPTION:The Foundation offers two opportunities a month for parents to attend. You do not need to attend both meetings -the same topics will be discussed.
URL:https://cclafoundation.org/event/foundation-meeting/
LOCATION:Zoom (link on Parentsquare)
END:VEVENT
BEGIN:VEVENT
DTSTART;VALUE=DATE:20210523
DTEND;VALUE=DATE:20210524
DTSTAMP:20260423T164118
CREATED:20210523T200028Z
LAST-MODIFIED:20210523T222241Z
UID:1969-1621728000-1621814399@cclafoundation.org
SUMMARY:See's Candies Fundraising Event for the Washington\, D.C. trip!
DESCRIPTION:Next school year we have 35 Cesar Chavez Language Academy students and parents who will be visiting Washington\, D.C. and See’s Candies is helping us raise funds!  We receive all profits from any candy sales on this site.  Please support our students and their fundraising efforts!  Open this calendar event to click on the link. \nhttps://www.yumraising.com/secure/cesarcla_ccla_washington_dc_trip85/candy?h=Don_Pra5245&c=fb6302
URL:https://cclafoundation.org/event/sees-candies-fundraising-event-for-the-washington-d-c-trip/
END:VEVENT
BEGIN:VEVENT
DTSTART;VALUE=DATE:20210422
DTEND;VALUE=DATE:20210426
DTSTAMP:20260423T164118
CREATED:20210416T232152Z
LAST-MODIFIED:20210511T030950Z
UID:812-1619049600-1619395199@cclafoundation.org
SUMMARY:Earth Day Fundraiser
DESCRIPTION:
URL:https://cclafoundation.org/event/earth-day-fundraiser/
END:VEVENT
END:VCALENDAR